BEGIN:VCALENDAR
VERSION:2.0
PRODID:-//Longreach Region Tourist Information - ECPv6.6.4.1//NONSGML v1.0//EN
CALSCALE:GREGORIAN
METHOD:PUBLISH
X-WR-CALNAME:Longreach Region Tourist Information
X-ORIGINAL-URL:https://experiencelongreach.com.au
X-WR-CALDESC:Events for Longreach Region Tourist Information
REFRESH-INTERVAL;VALUE=DURATION:PT1H
X-Robots-Tag:noindex
X-PUBLISHED-TTL:PT1H
BEGIN:VTIMEZONE
TZID:Australia/Brisbane
BEGIN:STANDARD
TZOFFSETFROM:+1000
TZOFFSETTO:+1000
TZNAME:AEST
DTSTART:20230101T000000
END:STANDARD
END:VTIMEZONE
BEGIN:VEVENT
DTSTART;TZID=Australia/Brisbane:20231027T080000
DTEND;TZID=Australia/Brisbane:20240131T130000
DTSTAMP:20260420T171847
CREATED:20231025T020411Z
LAST-MODIFIED:20231025T020528Z
UID:5333-1698393600-1706706000@experiencelongreach.com.au
SUMMARY:Kirrendirri Heart of the Channel Country Exhibition
DESCRIPTION:Friday  27 October 2023\, 5.30pm Official Launch \nSaturday 28 October 2023\, 10am Curators Tour \nGallery Open 8am to 1pm Daily\, Exhibition runs through to January 2024.
URL:https://experiencelongreach.com.au/event/kirrendirri-heart-of-the-channel-country-exhibition/
LOCATION:Qantas Founders Museum\, Sir Hudson Fysh Drive\, Longreach\, Queensland\, 4730\, Australia
ATTACH;FMTTYPE=image/png:https://experiencelongreach.com.au/wp-content/uploads/2023/10/Friday-27-October-2023-530pm-for-600pm-Official-Launch-Qantas-Founders-Museum-Hudson-Fysh-Drive-Longreach-RSVP-info@qfom.com_.au-By-Wed-25-October2.png
ORGANIZER;CN="Qantas Funders Museum":MAILTO:info@qfom.com.au
END:VEVENT
BEGIN:VEVENT
DTSTART;VALUE=DATE:20240126
DTEND;VALUE=DATE:20240127
DTSTAMP:20260420T171847
CREATED:20240115T041614Z
LAST-MODIFIED:20240115T041841Z
UID:5600-1706227200-1706313599@experiencelongreach.com.au
SUMMARY:Australia Day  -Longreach
DESCRIPTION:
URL:https://experiencelongreach.com.au/event/australia-day-longreach/
LOCATION:QLD
ATTACH;FMTTYPE=image/png:https://experiencelongreach.com.au/wp-content/uploads/2024/01/Australia-Day-Longreach.png
END:VEVENT
BEGIN:VEVENT
DTSTART;VALUE=DATE:20240126
DTEND;VALUE=DATE:20240127
DTSTAMP:20260420T171847
CREATED:20240115T041953Z
LAST-MODIFIED:20240115T041953Z
UID:5603-1706227200-1706313599@experiencelongreach.com.au
SUMMARY:Australia Day - Ilfracombe
DESCRIPTION:
URL:https://experiencelongreach.com.au/event/australia-day-ilfracombe/
LOCATION:QLD
ATTACH;FMTTYPE=image/png:https://experiencelongreach.com.au/wp-content/uploads/2024/01/Australia-Day-Ilfracombe.png
END:VEVENT
BEGIN:VEVENT
DTSTART;VALUE=DATE:20240126
DTEND;VALUE=DATE:20240127
DTSTAMP:20260420T171847
CREATED:20240115T042056Z
LAST-MODIFIED:20240115T042056Z
UID:5606-1706227200-1706313599@experiencelongreach.com.au
SUMMARY:Australia Day - Isisford & Yaraka
DESCRIPTION:
URL:https://experiencelongreach.com.au/event/australia-day-isisford-yaraka/
LOCATION:QLD
ATTACH;FMTTYPE=image/png:https://experiencelongreach.com.au/wp-content/uploads/2024/01/Australia-Day-Isisford-Yaraka.png
END:VEVENT
END:VCALENDAR