BEGIN:VCALENDAR
VERSION:2.0
PRODID:-//Longreach Region Tourist Information - ECPv6.6.4.1//NONSGML v1.0//EN
CALSCALE:GREGORIAN
METHOD:PUBLISH
X-WR-CALNAME:Longreach Region Tourist Information
X-ORIGINAL-URL:https://experiencelongreach.com.au
X-WR-CALDESC:Events for Longreach Region Tourist Information
REFRESH-INTERVAL;VALUE=DURATION:PT1H
X-Robots-Tag:noindex
X-PUBLISHED-TTL:PT1H
BEGIN:VTIMEZONE
TZID:Australia/Brisbane
BEGIN:STANDARD
TZOFFSETFROM:+1000
TZOFFSETTO:+1000
TZNAME:AEST
DTSTART:20240101T000000
END:STANDARD
END:VTIMEZONE
BEGIN:VEVENT
DTSTART;TZID=Australia/Brisbane:20240303T080000
DTEND;TZID=Australia/Brisbane:20240303T170000
DTSTAMP:20260420T143451
CREATED:20240115T042329Z
LAST-MODIFIED:20240115T042329Z
UID:5609-1709452800-1709485200@experiencelongreach.com.au
SUMMARY:Clean Up Australia Day
DESCRIPTION:
URL:https://experiencelongreach.com.au/event/clean-up-australia-day/
LOCATION:Apex Park Longreach\, River Farms Road\, Longreach\, Queensland\, 4730\, Australia
ATTACH;FMTTYPE=image/png:https://experiencelongreach.com.au/wp-content/uploads/2024/01/Clean-up-Australia-Day-2024.png
ORGANIZER;CN="Longreach Regional Council":MAILTO:council@longreach.qld.gov.au
END:VEVENT
END:VCALENDAR