BEGIN:VCALENDAR
VERSION:2.0
PRODID:-//Longreach Region Tourist Information - ECPv6.6.4.1//NONSGML v1.0//EN
CALSCALE:GREGORIAN
METHOD:PUBLISH
X-WR-CALNAME:Longreach Region Tourist Information
X-ORIGINAL-URL:https://experiencelongreach.com.au
X-WR-CALDESC:Events for Longreach Region Tourist Information
REFRESH-INTERVAL;VALUE=DURATION:PT1H
X-Robots-Tag:noindex
X-PUBLISHED-TTL:PT1H
BEGIN:VTIMEZONE
TZID:Australia/Brisbane
BEGIN:STANDARD
TZOFFSETFROM:+1000
TZOFFSETTO:+1000
TZNAME:AEST
DTSTART:20240101T000000
END:STANDARD
END:VTIMEZONE
BEGIN:VEVENT
DTSTART;VALUE=DATE:20240316
DTEND;VALUE=DATE:20240923
DTSTAMP:20260420T091258
CREATED:20240304T045026Z
LAST-MODIFIED:20240312T062944Z
UID:5713-1710547200-1727049599@experiencelongreach.com.au
SUMMARY:Yayoi Kusama's exhibition at Qantas Founders Museum
DESCRIPTION:Exciting News! Qantas Founders Museum proudly announces a prominent artwork by the globally celebrated artist Yayoi Kusama\, to be unveiled from 16 March to 22 September 2024 on loan from the National Gallery of Australia. Kusama’s infinity experience THE SPIRITS OF THE PUMPKINS DESCENDED INTO THE HEAVENS will travel to Longreach in Western Queensland. The official unveiling of THE SPIRITS OF THE PUMPKINS DESCENDED INTO THE HEAVENS from the National Gallery will take place on March 15\, 2024\, at the Qantas Founders Museum\, Longreach. Further details regarding public programs and announcements will be released soon. This work of art is on loan from the National Gallery of Australia as part of Art Across Australia. Share #ArtAcrossAustralia
URL:https://experiencelongreach.com.au/event/yayoi-kusamas-the-spirits-of-the-pumpkins-descended-into-the-heavens-exhibition-at-qantas-founders-museum/
LOCATION:Qantas Founders Museum\, Sir Hudson Fysh Drive\, Longreach\, Queensland\, 4730\, Australia
ATTACH;FMTTYPE=image/jpeg:https://experiencelongreach.com.au/wp-content/uploads/2024/03/Yayoi_Kusama__THE_SPIRITS_OF_THE_PUMPKINS_DESCENDED_INTO_THE_HEAVENS__2017__purchased_2018_with_the_assistance_of_Andrew_and_Hiroko_Gwinnett.____YAYOI_KUSAMA.jpg
END:VEVENT
BEGIN:VEVENT
DTSTART;TZID=Australia/Brisbane:20240514T080000
DTEND;TZID=Australia/Brisbane:20240520T170000
DTSTAMP:20260420T091258
CREATED:20231115T021148Z
LAST-MODIFIED:20231116T012537Z
UID:5410-1715673600-1716224400@experiencelongreach.com.au
SUMMARY:Festival Of Outback Opera
DESCRIPTION:Unlike any other music event you have experienced. It’s more than a festival\, it’s a journey. The Festival of Outback Opera delivers a series of outdoor concerts in iconic locations set on a backdrop of sublime sunsets and scenery like you have never encountered. Frock up for the Gala or join us in the pub for a casual singalong. Gather under the stars for Dark Sky Serenade or enjoy an afternoon of beautiful voices and delicious local food at the Long Lunch. \nA flexible itinerary allows you to immerse yourself for a long weekend or give in to the full week of activities. This is song and scenery on a grand scale. And while the space is vast\, the feeling is intimate\, leaving you with a smile on your face and a bounty of new friendships. \nIt’s an experience the city cannot match. Start making your plans today. As with previous years\, the festival will sell out quickly. \nThe Festival of Outback Opera is supported by the Queensland Government through Arts Queensland\, the Outback Queensland Tourism Association and Haymans Electrical.
URL:https://experiencelongreach.com.au/event/festival-of-outback-opera/
LOCATION:QLD
ATTACH;FMTTYPE=image/jpeg:https://experiencelongreach.com.au/wp-content/uploads/2023/11/FOO_Header_title_04-1440x563-1.jpg
END:VEVENT
BEGIN:VEVENT
DTSTART;VALUE=DATE:20240516
DTEND;VALUE=DATE:20240520
DTSTAMP:20260420T091258
CREATED:20231218T062914Z
LAST-MODIFIED:20240514T021440Z
UID:5525-1715817600-1716163199@experiencelongreach.com.au
SUMMARY:Isisford celebrating 150 years
DESCRIPTION:
URL:https://experiencelongreach.com.au/event/isisford-celebrating-150-years/
LOCATION:Isisford\, St Mary Street\, Isisford\, Queensland\, 4731\, Australia
ATTACH;FMTTYPE=image/jpeg:https://experiencelongreach.com.au/wp-content/uploads/2023/12/Isisford-150-Years.jpg
END:VEVENT
BEGIN:VEVENT
DTSTART;VALUE=DATE:20240518
DTEND;VALUE=DATE:20240519
DTSTAMP:20260420T091258
CREATED:20231218T062017Z
LAST-MODIFIED:20231218T062017Z
UID:5521-1715990400-1716076799@experiencelongreach.com.au
SUMMARY:Isisford Sheep and Wool Show
DESCRIPTION:
URL:https://experiencelongreach.com.au/event/isisford-sheep-and-wool-show/
LOCATION:Isisford Race Course\, Isisford\, Queensland\, Australia
ATTACH;FMTTYPE=image/jpeg:https://experiencelongreach.com.au/wp-content/uploads/2023/12/10462694_428099160665782_459219167797562525_n.jpg
ORGANIZER;CN="Isisford Sheep & Wool Show Association Inc":MAILTO:sheepshow.isis@bigpond.com
END:VEVENT
BEGIN:VEVENT
DTSTART;TZID=Australia/Brisbane:20240518T173000
DTEND;TZID=Australia/Brisbane:20240518T213000
DTSTAMP:20260420T091258
CREATED:20231116T012822Z
LAST-MODIFIED:20231116T012822Z
UID:5440-1716053400-1716067800@experiencelongreach.com.au
SUMMARY:Singing in the Night
DESCRIPTION:This majestic concert showcases opera’s best loved hits among the deep history of Camden Park Station. The historic 18\,000-acre working cattle station boasts 360-degree views of uninterrupted horizon. The venue has played host to everyone from the country’s first stockmen to Queen Elizabeth herself. \nOn this very special evening some of Opera Queensland’s finest singers perform under the stars\, accompanied by the University of Queensland Pulse Chamber Orchestra joined by musicians of the Queensland Symphony Orchestra. As the sun sets over the desert backdrop\, the performers will be illuminated by the spellbinding colours of the Outback. Get out your cameras\, this is Insta-worthy on a grand scale. \nOpera Queensland’s Festival of Outback Opera is supported by the Queensland Government through Arts Queensland\, the Outback Queensland Tourism Association and Haymans Electrical.
URL:https://experiencelongreach.com.au/event/singing-in-the-night/
LOCATION:Camden Park Station
ATTACH;FMTTYPE=image/jpeg:https://experiencelongreach.com.au/wp-content/uploads/2023/11/Opera.jpeg
END:VEVENT
END:VCALENDAR