BEGIN:VCALENDAR
VERSION:2.0
PRODID:-//Longreach Region Tourist Information - ECPv6.6.4.1//NONSGML v1.0//EN
CALSCALE:GREGORIAN
METHOD:PUBLISH
X-WR-CALNAME:Longreach Region Tourist Information
X-ORIGINAL-URL:https://experiencelongreach.com.au
X-WR-CALDESC:Events for Longreach Region Tourist Information
REFRESH-INTERVAL;VALUE=DURATION:PT1H
X-Robots-Tag:noindex
X-PUBLISHED-TTL:PT1H
BEGIN:VTIMEZONE
TZID:Australia/Brisbane
BEGIN:STANDARD
TZOFFSETFROM:+1000
TZOFFSETTO:+1000
TZNAME:AEST
DTSTART:20240101T000000
END:STANDARD
END:VTIMEZONE
BEGIN:VEVENT
DTSTART;VALUE=DATE:20240316
DTEND;VALUE=DATE:20240923
DTSTAMP:20260420T053832
CREATED:20240304T045026Z
LAST-MODIFIED:20240312T062944Z
UID:5713-1710547200-1727049599@experiencelongreach.com.au
SUMMARY:Yayoi Kusama's exhibition at Qantas Founders Museum
DESCRIPTION:Exciting News! Qantas Founders Museum proudly announces a prominent artwork by the globally celebrated artist Yayoi Kusama\, to be unveiled from 16 March to 22 September 2024 on loan from the National Gallery of Australia. Kusama’s infinity experience THE SPIRITS OF THE PUMPKINS DESCENDED INTO THE HEAVENS will travel to Longreach in Western Queensland. The official unveiling of THE SPIRITS OF THE PUMPKINS DESCENDED INTO THE HEAVENS from the National Gallery will take place on March 15\, 2024\, at the Qantas Founders Museum\, Longreach. Further details regarding public programs and announcements will be released soon. This work of art is on loan from the National Gallery of Australia as part of Art Across Australia. Share #ArtAcrossAustralia
URL:https://experiencelongreach.com.au/event/yayoi-kusamas-the-spirits-of-the-pumpkins-descended-into-the-heavens-exhibition-at-qantas-founders-museum/
LOCATION:Qantas Founders Museum\, Sir Hudson Fysh Drive\, Longreach\, Queensland\, 4730\, Australia
ATTACH;FMTTYPE=image/jpeg:https://experiencelongreach.com.au/wp-content/uploads/2024/03/Yayoi_Kusama__THE_SPIRITS_OF_THE_PUMPKINS_DESCENDED_INTO_THE_HEAVENS__2017__purchased_2018_with_the_assistance_of_Andrew_and_Hiroko_Gwinnett.____YAYOI_KUSAMA.jpg
END:VEVENT
BEGIN:VEVENT
DTSTART;TZID=Australia/Brisbane:20240713T090000
DTEND;TZID=Australia/Brisbane:20240713T130000
DTSTAMP:20260420T053832
CREATED:20231219T054857Z
LAST-MODIFIED:20231219T054857Z
UID:5541-1720861200-1720875600@experiencelongreach.com.au
SUMMARY:Longreach CWA Markets
DESCRIPTION:
URL:https://experiencelongreach.com.au/event/longreach-cwa-markets-3/
LOCATION:Qantas Park\, Eagle Street\, Longreach\, Queensland\, 4730\, Australia
ATTACH;FMTTYPE=image/jpeg:https://experiencelongreach.com.au/wp-content/uploads/2023/12/287106876_5881477721879657_6964833073420323996_n-1-e1702964919861.jpg
ORGANIZER;CN="QCWA Longreach":MAILTO:longreachbranch@qcwa.org.au
END:VEVENT
BEGIN:VEVENT
DTSTART;TZID=Australia/Brisbane:20240713T113000
DTEND;TZID=Australia/Brisbane:20240713T210000
DTSTAMP:20260420T053832
CREATED:20240208T011515Z
LAST-MODIFIED:20240208T011515Z
UID:5650-1720870200-1720904400@experiencelongreach.com.au
SUMMARY:Willowie Cup Ilfracombe Races
DESCRIPTION:
URL:https://experiencelongreach.com.au/event/willowie-cup-ilfracombe-races/
LOCATION:Ilfracombe Race Course\, Racecourse Road\, Ilfracombe\, Queensland\, 4727
ATTACH;FMTTYPE=image/jpeg:https://experiencelongreach.com.au/wp-content/uploads/2024/02/Ilfracombe-Races-2.jpg
ORGANIZER;CN="Ilfracombe Picnic Race Club":MAILTO:ilfracombepicnicraceclub@gmail.com
END:VEVENT
END:VCALENDAR