BEGIN:VCALENDAR
VERSION:2.0
PRODID:-//Longreach Region Tourist Information - ECPv6.6.4.1//NONSGML v1.0//EN
CALSCALE:GREGORIAN
METHOD:PUBLISH
X-ORIGINAL-URL:https://experiencelongreach.com.au
X-WR-CALDESC:Events for Longreach Region Tourist Information
REFRESH-INTERVAL;VALUE=DURATION:PT1H
X-Robots-Tag:noindex
X-PUBLISHED-TTL:PT1H
BEGIN:VTIMEZONE
TZID:Australia/Brisbane
BEGIN:STANDARD
TZOFFSETFROM:+1000
TZOFFSETTO:+1000
TZNAME:AEST
DTSTART:20240101T000000
END:STANDARD
END:VTIMEZONE
BEGIN:VEVENT
DTSTART;TZID=Australia/Brisbane:20241005T180000
DTEND;TZID=Australia/Brisbane:20241005T233000
DTSTAMP:20260420T054435
CREATED:20240320T224022Z
LAST-MODIFIED:20240402T011726Z
UID:6028-1728151200-1728171000@experiencelongreach.com.au
SUMMARY:Flyers Ball
DESCRIPTION:
URL:https://experiencelongreach.com.au/event/flyers-ball/
LOCATION:QLD
ATTACH;FMTTYPE=image/jpeg:https://experiencelongreach.com.au/wp-content/uploads/2024/03/433262511_738640468384984_1744517224102817049_n.jpg
ORGANIZER;CN="Flyers Ball Committee":MAILTO:Longreachflyersball@gmail.com
END:VEVENT
END:VCALENDAR