BEGIN:VCALENDAR
VERSION:2.0
PRODID:-//Longreach Region Tourist Information - ECPv6.6.4.1//NONSGML v1.0//EN
CALSCALE:GREGORIAN
METHOD:PUBLISH
X-WR-CALNAME:Longreach Region Tourist Information
X-ORIGINAL-URL:https://experiencelongreach.com.au
X-WR-CALDESC:Events for Longreach Region Tourist Information
REFRESH-INTERVAL;VALUE=DURATION:PT1H
X-Robots-Tag:noindex
X-PUBLISHED-TTL:PT1H
BEGIN:VTIMEZONE
TZID:Australia/Brisbane
BEGIN:STANDARD
TZOFFSETFROM:+1000
TZOFFSETTO:+1000
TZNAME:AEST
DTSTART:20240101T000000
END:STANDARD
END:VTIMEZONE
BEGIN:VEVENT
DTSTART;TZID=Australia/Brisbane:20241006T080000
DTEND;TZID=Australia/Brisbane:20241006T170000
DTSTAMP:20260420T053843
CREATED:20240829T060149Z
LAST-MODIFIED:20240829T060647Z
UID:6645-1728201600-1728234000@experiencelongreach.com.au
SUMMARY:Head of the Outback Rowing Regatta
DESCRIPTION:2024 Australian Outback Rowing Regatta \nA two-day festival of VIIIs racing in the Australian Outback \nconsisting of \nThe Outback Sprints \na short course Henley-style duel and elimination gift series \nBarcaldine\, Queensland ▪ Saturday 5th October 2024 \nand \nThe Head of the Outback \na 6 km head race on the Thomson River \nLongreach\, Queensland ▪ Sunday 6th October 2024
URL:https://experiencelongreach.com.au/event/head-of-the-outback-rowing-regatta/
LOCATION:Thomson River\, Longreach\, River Farms Road\, Longreach\, Queensland\, 4730\, Australia
ATTACH;FMTTYPE=image/jpeg:https://experiencelongreach.com.au/wp-content/uploads/2024/08/Rowing-Regatta.jpg
ORGANIZER;CN="Outback Rowing Australia":MAILTO:hello@outbackrowing.com
END:VEVENT
END:VCALENDAR