BEGIN:VCALENDAR
VERSION:2.0
PRODID:-//Longreach Region Tourist Information - ECPv6.6.4.1//NONSGML v1.0//EN
CALSCALE:GREGORIAN
METHOD:PUBLISH
X-WR-CALNAME:Longreach Region Tourist Information
X-ORIGINAL-URL:https://experiencelongreach.com.au
X-WR-CALDESC:Events for Longreach Region Tourist Information
REFRESH-INTERVAL;VALUE=DURATION:PT1H
X-Robots-Tag:noindex
X-PUBLISHED-TTL:PT1H
BEGIN:VTIMEZONE
TZID:Australia/Brisbane
BEGIN:STANDARD
TZOFFSETFROM:+1000
TZOFFSETTO:+1000
TZNAME:AEST
DTSTART:20240101T000000
END:STANDARD
END:VTIMEZONE
BEGIN:VEVENT
DTSTART;VALUE=DATE:20241011
DTEND;VALUE=DATE:20241014
DTSTAMP:20260420T072736
CREATED:20231218T052215Z
LAST-MODIFIED:20241001T055854Z
UID:5497-1728604800-1728863999@experiencelongreach.com.au
SUMMARY:Thomson River Festival
DESCRIPTION:
URL:https://experiencelongreach.com.au/event/thomson-river-festival/
LOCATION:QLD
ATTACH;FMTTYPE=image/png:https://experiencelongreach.com.au/wp-content/uploads/2023/12/thomson-river-festivalAD-e1707359256224.png
END:VEVENT
BEGIN:VEVENT
DTSTART;VALUE=DATE:20241011
DTEND;VALUE=DATE:20241014
DTSTAMP:20260420T072736
CREATED:20241002T004620Z
LAST-MODIFIED:20241002T004620Z
UID:6693-1728604800-1728863999@experiencelongreach.com.au
SUMMARY:Thomson River Festival Scavenger Hunt
DESCRIPTION:The Thomson River Festival is not just about the events\, it is about celebrating our town\, our region and our community!\n\n\n What better way to be part of it than enter the Scavenger Hunt as part of the Thomson River Festival?!\n\n\nHow does it work?\n You will be given a series of clues\n These will direct you to various locations\n Where you will need to take photos including various objects\n This will be done over the course of the festival\n The winner must have all correct photos and submit them at the Branch on Sunday morning at the recovery breakfast.\n Then the winner will be drawn and you could win $500 cold hard cash!\n Registrations will open on 19 September. Free entry.\n\n\n Trust us\, it will be a tonne of fun and worth being part of! Form a team or enter as an individual. Your team can be your family\, friends\, work buddies – who else is going to enjoy the hunt?\n\n\n Thank you to Ros Kavanagh at Elders Insurance Central Queensland for supporting this wonderful event!
URL:https://experiencelongreach.com.au/event/thomson-river-festival-scavenger-hunt/
LOCATION:QLD
ATTACH;FMTTYPE=image/jpeg:https://experiencelongreach.com.au/wp-content/uploads/2024/10/TRF-Scavenger-Hunt.jpg
END:VEVENT
BEGIN:VEVENT
DTSTART;TZID=Australia/Brisbane:20241011T170000
DTEND;TZID=Australia/Brisbane:20241011T233000
DTSTAMP:20260420T072736
CREATED:20241001T053813Z
LAST-MODIFIED:20241002T004345Z
UID:6668-1728666000-1728689400@experiencelongreach.com.au
SUMMARY:Quack Street Party - Thomson River Festival
DESCRIPTION:Come and join in the fun at the Quack Street Party!\nSunset Market Stalls\, Food Vans\, Pop up Bars\, Cocktail vans and live music from Zac Cross Band.\nThis is a family friendly event.
URL:https://experiencelongreach.com.au/event/quack-street-party-thomson-river-festival/
LOCATION:Duck Street\, Longreach\, Queensland\, 4730\, Australia
ATTACH;FMTTYPE=image/jpeg:https://experiencelongreach.com.au/wp-content/uploads/2024/10/TRF-Quack-Street.jpg
END:VEVENT
END:VCALENDAR