BEGIN:VCALENDAR
VERSION:2.0
PRODID:-//Longreach Region Tourist Information - ECPv6.6.4.1//NONSGML v1.0//EN
CALSCALE:GREGORIAN
METHOD:PUBLISH
X-WR-CALNAME:Longreach Region Tourist Information
X-ORIGINAL-URL:https://experiencelongreach.com.au
X-WR-CALDESC:Events for Longreach Region Tourist Information
REFRESH-INTERVAL;VALUE=DURATION:PT1H
X-Robots-Tag:noindex
X-PUBLISHED-TTL:PT1H
BEGIN:VTIMEZONE
TZID:Australia/Brisbane
BEGIN:STANDARD
TZOFFSETFROM:+1000
TZOFFSETTO:+1000
TZNAME:AEST
DTSTART:20240101T000000
END:STANDARD
END:VTIMEZONE
BEGIN:VEVENT
DTSTART;TZID=Australia/Brisbane:20241026T113000
DTEND;TZID=Australia/Brisbane:20241026T230000
DTSTAMP:20260420T072732
CREATED:20240208T022620Z
LAST-MODIFIED:20240208T022819Z
UID:5668-1729942200-1729983600@experiencelongreach.com.au
SUMMARY:Isisford Ross Cup Races
DESCRIPTION:
URL:https://experiencelongreach.com.au/event/isisford-ross-cup-races-2/
LOCATION:Isisford Race Course\, Isisford\, Queensland\, Australia
ATTACH;FMTTYPE=image/jpeg:https://experiencelongreach.com.au/wp-content/uploads/2024/02/Isisford-Ross-Cup-Races-3.jpg
END:VEVENT
END:VCALENDAR