BEGIN:VCALENDAR
VERSION:2.0
PRODID:-//Longreach Region Tourist Information - ECPv6.6.4.1//NONSGML v1.0//EN
CALSCALE:GREGORIAN
METHOD:PUBLISH
X-WR-CALNAME:Longreach Region Tourist Information
X-ORIGINAL-URL:https://experiencelongreach.com.au
X-WR-CALDESC:Events for Longreach Region Tourist Information
REFRESH-INTERVAL;VALUE=DURATION:PT1H
X-Robots-Tag:noindex
X-PUBLISHED-TTL:PT1H
BEGIN:VTIMEZONE
TZID:Australia/Brisbane
BEGIN:STANDARD
TZOFFSETFROM:+1000
TZOFFSETTO:+1000
TZNAME:AEST
DTSTART:20250101T000000
END:STANDARD
END:VTIMEZONE
BEGIN:VEVENT
DTSTART;TZID=Australia/Brisbane:20250725T080000
DTEND;TZID=Australia/Brisbane:20250727T170000
DTSTAMP:20260420T165738
CREATED:20250711T034056Z
LAST-MODIFIED:20250711T034716Z
UID:6769-1753430400-1753635600@experiencelongreach.com.au
SUMMARY:Isisford Fishing Competition
DESCRIPTION:The annual Isisford Fishing Competition is a much-loved outback event held each July at the scenic Oma Waterhole\, just outside of Isisford. This fun-filled weekend brings together anglers of all ages to compete for great prizes\, with categories including yellowbelly\, black bream\, catfish\, and even awards for catching invasive species like sleepy cod and red claw. Alongside the fishing action\, there’s live entertainment\, novelty games\, team events\, raffles\, and plenty of food and drinks on offer. With camping facilities including hot showers and toilets\, it’s a fantastic weekend of fishing\, camping\, and community spirit in true outback style.
URL:https://experiencelongreach.com.au/event/isisford-fishing-competition-2/
LOCATION:QLD
ATTACH;FMTTYPE=image/jpeg:https://experiencelongreach.com.au/wp-content/uploads/2025/07/Isisford-Fishing-Comp-2.jpg
END:VEVENT
END:VCALENDAR