BEGIN:VCALENDAR
VERSION:2.0
PRODID:-//Longreach Region Tourist Information - ECPv6.6.4.1//NONSGML v1.0//EN
CALSCALE:GREGORIAN
METHOD:PUBLISH
X-ORIGINAL-URL:https://experiencelongreach.com.au
X-WR-CALDESC:Events for Longreach Region Tourist Information
REFRESH-INTERVAL;VALUE=DURATION:PT1H
X-Robots-Tag:noindex
X-PUBLISHED-TTL:PT1H
BEGIN:VTIMEZONE
TZID:Australia/Brisbane
BEGIN:STANDARD
TZOFFSETFROM:+1000
TZOFFSETTO:+1000
TZNAME:AEST
DTSTART:20250101T000000
END:STANDARD
END:VTIMEZONE
BEGIN:VEVENT
DTSTART;TZID=Australia/Brisbane:20250802T080000
DTEND;TZID=Australia/Brisbane:20250802T140000
DTSTAMP:20260420T165932
CREATED:20250722T050745Z
LAST-MODIFIED:20250722T052409Z
UID:6855-1754121600-1754143200@experiencelongreach.com.au
SUMMARY:Wellshot Garden Expo
DESCRIPTION:Welcome to the 2025 Wellshot Garden Expo\, a fantastic celebration of gardening! This event is a gardening enthusiast’s dream come true\, but don’t worry if you’re new to gardening; there’s something here for everyone.
URL:https://experiencelongreach.com.au/event/wellshot-garden-expo/
LOCATION:Wellshot Hotel\, Main Street\, Ilfracombe\, Queensland\, 4727\, Australia
ATTACH;FMTTYPE=image/jpeg:https://experiencelongreach.com.au/wp-content/uploads/2025/07/Wellshot-Centre-Garden-Expo.jpg
END:VEVENT
BEGIN:VEVENT
DTSTART;TZID=Australia/Brisbane:20250802T173000
DTEND;TZID=Australia/Brisbane:20250802T183000
DTSTAMP:20260420T165932
CREATED:20250722T045326Z
LAST-MODIFIED:20250722T045326Z
UID:6845-1754155800-1754159400@experiencelongreach.com.au
SUMMARY:Miniritchi Gallery Studies Exhibition Opening
DESCRIPTION://Studies Exhibition// \nCome celebrate emerging and established artists. Delve into the fine detail of the natural world through our August exhibition Studies\, where artists are invited to explore a chosen subject in depth. This exhibition celebrates the tradition of natural history illustration\, where art meets science and encourages participants to depict plants\, animals\, or ecosystems with both beauty and accuracy. Whether capturing the whole or just a fragment\, each work reflects a thoughtful observation of nature’s design. \nCome along and support local art! \n\n5.30pm start\nDrinks on arrival\nCanapés\nLucky door prizes\nPeoples Choice\n\nProudly Sponsored by Longreach Tavern
URL:https://experiencelongreach.com.au/event/miniritchi-gallery-studies-exhibition-opening/
LOCATION:Miniritchi Gallery\, 103 Eagle Street\, Longreach\, Longreach\, QLD\, Australia
ATTACH;FMTTYPE=image/jpeg:https://experiencelongreach.com.au/wp-content/uploads/2025/07/Miniritchi-Gallery-by-Emma-Read.jpeg
ORGANIZER;CN="Miniritchi Gallery":MAILTO:emma@iamemmaread.com.au
END:VEVENT
END:VCALENDAR