BEGIN:VCALENDAR
VERSION:2.0
PRODID:-//Longreach Region Tourist Information - ECPv6.6.4.1//NONSGML v1.0//EN
CALSCALE:GREGORIAN
METHOD:PUBLISH
X-WR-CALNAME:Longreach Region Tourist Information
X-ORIGINAL-URL:https://experiencelongreach.com.au
X-WR-CALDESC:Events for Longreach Region Tourist Information
REFRESH-INTERVAL;VALUE=DURATION:PT1H
X-Robots-Tag:noindex
X-PUBLISHED-TTL:PT1H
BEGIN:VTIMEZONE
TZID:Australia/Brisbane
BEGIN:STANDARD
TZOFFSETFROM:+1000
TZOFFSETTO:+1000
TZNAME:AEST
DTSTART:20250101T000000
END:STANDARD
END:VTIMEZONE
BEGIN:VEVENT
DTSTART;VALUE=DATE:20250803
DTEND;VALUE=DATE:20250901
DTSTAMP:20260421T003059
CREATED:20250722T043100Z
LAST-MODIFIED:20250722T045644Z
UID:6823-1754179200-1756684799@experiencelongreach.com.au
SUMMARY:Studies Exhibition - Miniritchi Gallery
DESCRIPTION:Participants are encourage to choose a subject to study. A natural history study explores the relationship between nature and art\, and how artists depict plants and animals in their work. The goal is to depict the whole subject or parts of a subject in a manner that is both aesthetically pleasing and scientifically accurate. Macro photography\, drawings\, illustrations and paintings\, critical understanding of subjects shape\, texture can include anatomy and botany. Judged with prizes. Four categories available. Invitation open to adults\, children and students. 10 years and under\, 11 to 15 years\, 16 to 19 years and adults/open. Duration one month.
URL:https://experiencelongreach.com.au/event/studies-exhibition-miniritchi-gallery/
LOCATION:Miniritchi Gallery\, 103 Eagle Street\, Longreach\, Longreach\, QLD\, Australia
ATTACH;FMTTYPE=image/jpeg:https://experiencelongreach.com.au/wp-content/uploads/2025/07/Miniritchi-Gallery-by-Emma-Read.jpeg
ORGANIZER;CN="Miniritchi Gallery":MAILTO:emma@iamemmaread.com.au
END:VEVENT
END:VCALENDAR