BEGIN:VCALENDAR
VERSION:2.0
PRODID:-//Longreach Region Tourist Information - ECPv6.6.4.1//NONSGML v1.0//EN
CALSCALE:GREGORIAN
METHOD:PUBLISH
X-ORIGINAL-URL:https://experiencelongreach.com.au
X-WR-CALDESC:Events for Longreach Region Tourist Information
REFRESH-INTERVAL;VALUE=DURATION:PT1H
X-Robots-Tag:noindex
X-PUBLISHED-TTL:PT1H
BEGIN:VTIMEZONE
TZID:Australia/Brisbane
BEGIN:STANDARD
TZOFFSETFROM:+1000
TZOFFSETTO:+1000
TZNAME:AEST
DTSTART:20250101T000000
END:STANDARD
END:VTIMEZONE
BEGIN:VEVENT
DTSTART;TZID=Australia/Brisbane:20250927T113000
DTEND;TZID=Australia/Brisbane:20250927T233000
DTSTAMP:20260421T003259
CREATED:20250711T040928Z
LAST-MODIFIED:20250711T040928Z
UID:6779-1758972600-1759015800@experiencelongreach.com.au
SUMMARY:Longreach Cup Race Day
DESCRIPTION:The Longreach Cup Race Day is the pinnacle of outback racing\, held each September at the Longreach Racecourse. This iconic event offers thrilling country racing\, Fashions on the Field\, live entertainment\, and a festive atmosphere\, with bar\, food\, and family-friendly facilities. It’s a true celebration of racing and community spirit in the heart of Queensland’s outback.
URL:https://experiencelongreach.com.au/event/longreach-cup-race-day/
LOCATION:Longreach Racecourse\, Gull Street\, Longreach\, Queensland\, 4730\, Australia
ATTACH;FMTTYPE=image/jpeg:https://experiencelongreach.com.au/wp-content/uploads/2025/07/LOngreach-Jockey-Club-3.jpg
ORGANIZER;CN="Longreach Jockey Club":MAILTO:ljcracesec@gmail.com
END:VEVENT
END:VCALENDAR