BEGIN:VCALENDAR
VERSION:2.0
PRODID:-//Longreach Region Tourist Information - ECPv6.6.4.1//NONSGML v1.0//EN
CALSCALE:GREGORIAN
METHOD:PUBLISH
X-ORIGINAL-URL:https://experiencelongreach.com.au
X-WR-CALDESC:Events for Longreach Region Tourist Information
REFRESH-INTERVAL;VALUE=DURATION:PT1H
X-Robots-Tag:noindex
X-PUBLISHED-TTL:PT1H
BEGIN:VTIMEZONE
TZID:Australia/Brisbane
BEGIN:STANDARD
TZOFFSETFROM:+1000
TZOFFSETTO:+1000
TZNAME:AEST
DTSTART:20250101T000000
END:STANDARD
END:VTIMEZONE
BEGIN:VEVENT
DTSTART;TZID=Australia/Brisbane:20251004T080000
DTEND;TZID=Australia/Brisbane:20251004T170000
DTSTAMP:20260421T003134
CREATED:20250711T045613Z
LAST-MODIFIED:20250711T045613Z
UID:6791-1759564800-1759597200@experiencelongreach.com.au
SUMMARY:Flyers Ball
DESCRIPTION:The annual Flyers Ball is a black-tie charity gala that brings together people from all over Australia to raise much-needed funds for RFDS and local charities.
URL:https://experiencelongreach.com.au/event/flyers-ball-2/
LOCATION:Longreach Racecourse\, Gull Street\, Longreach\, Queensland\, 4730\, Australia
ATTACH;FMTTYPE=image/png:https://experiencelongreach.com.au/wp-content/uploads/2025/07/Flyers-ball.png
ORGANIZER;CN="Flyers Ball Committee":MAILTO:Longreachflyersball@gmail.com
END:VEVENT
BEGIN:VEVENT
DTSTART;TZID=Australia/Brisbane:20251004T080000
DTEND;TZID=Australia/Brisbane:20251005T170000
DTSTAMP:20260421T003134
CREATED:20250711T042917Z
LAST-MODIFIED:20250711T042917Z
UID:6785-1759564800-1759683600@experiencelongreach.com.au
SUMMARY:Yaraka End of the Line Draft
DESCRIPTION:The Yaraka End of the Line Campdraft is a true celebration of outback sport and community\, held each October at Kiama Park Sports Grounds in Yaraka. Riders of all ages compete across a range of categories\, from Mini and Junior drafts to Ladies\, Maiden\, Novice\, and Open events. With onsite camping\, bar and catering\, and live entertainment on Saturday night\, it’s a great weekend of action\, mateship\, and country hospitality in one of Queensland’s most scenic outback towns.
URL:https://experiencelongreach.com.au/event/yaraka-end-of-the-line-draft-2/
LOCATION:Yaraka\, Kiama Park Sports Grounds\, Yaraka\, Qld\, Australia
ATTACH;FMTTYPE=image/jpeg:https://experiencelongreach.com.au/wp-content/uploads/2025/07/Yaraka-Campdraft-Assoc.jpg
ORGANIZER;CN="Yaraka Campdraft Assoc Inc":MAILTO:yarakacampdraft@gmail.com
END:VEVENT
END:VCALENDAR