BEGIN:VCALENDAR
VERSION:2.0
PRODID:-//Longreach Region Tourist Information - ECPv6.6.4.1//NONSGML v1.0//EN
CALSCALE:GREGORIAN
METHOD:PUBLISH
X-WR-CALNAME:Longreach Region Tourist Information
X-ORIGINAL-URL:https://experiencelongreach.com.au
X-WR-CALDESC:Events for Longreach Region Tourist Information
REFRESH-INTERVAL;VALUE=DURATION:PT1H
X-Robots-Tag:noindex
X-PUBLISHED-TTL:PT1H
BEGIN:VTIMEZONE
TZID:Australia/Brisbane
BEGIN:STANDARD
TZOFFSETFROM:+1000
TZOFFSETTO:+1000
TZNAME:AEST
DTSTART:20250101T000000
END:STANDARD
END:VTIMEZONE
BEGIN:VEVENT
DTSTART;TZID=Australia/Brisbane:20251025T113000
DTEND;TZID=Australia/Brisbane:20251025T233000
DTSTAMP:20260421T094923
CREATED:20250711T055916Z
LAST-MODIFIED:20250711T055933Z
UID:6800-1761391800-1761435000@experiencelongreach.com.au
SUMMARY:Isisford Ross Cup Races
DESCRIPTION:The Isisford Ross Cup Races are a highlight on the central west Queensland social calendar\, bringing together locals and visitors for a great day of country racing and community celebration. Held annually at the Isisford Racecourse\, this much-loved event features thrilling races\, Fashions on the Field\, live entertainment\, and plenty of outback hospitality. Whether you’re there for the horses\, the fashion\, or simply the fun\, the Ross Cup promises an unforgettable day in the heart of the outback.
URL:https://experiencelongreach.com.au/event/isisford-ross-cup-races-3/
LOCATION:Isisford Race Course\, Isisford\, Queensland\, Australia
ATTACH;FMTTYPE=image/jpeg:https://experiencelongreach.com.au/wp-content/uploads/2025/07/Isisford-Race-Club.jpg
END:VEVENT
END:VCALENDAR