BEGIN:VCALENDAR
VERSION:2.0
PRODID:-//Longreach Region Tourist Information - ECPv6.6.4.1//NONSGML v1.0//EN
CALSCALE:GREGORIAN
METHOD:PUBLISH
X-WR-CALNAME:Longreach Region Tourist Information
X-ORIGINAL-URL:https://experiencelongreach.com.au
X-WR-CALDESC:Events for Longreach Region Tourist Information
REFRESH-INTERVAL;VALUE=DURATION:PT1H
X-Robots-Tag:noindex
X-PUBLISHED-TTL:PT1H
BEGIN:VTIMEZONE
TZID:Australia/Brisbane
BEGIN:STANDARD
TZOFFSETFROM:+1000
TZOFFSETTO:+1000
TZNAME:AEST
DTSTART:20230101T000000
END:STANDARD
END:VTIMEZONE
BEGIN:VEVENT
DTSTART;TZID=Australia/Brisbane:20231028T183000
DTEND;TZID=Australia/Brisbane:20231028T230000
DTSTAMP:20260421T025027
CREATED:20231027T002400Z
LAST-MODIFIED:20231027T002400Z
UID:5355-1698517800-1698534000@experiencelongreach.com.au
SUMMARY:Juke Joint live @ the Birdcage Hotel
DESCRIPTION:Live @ the Cage Saturday night is Juke Joint. Escape the heat and dance the night away
URL:https://experiencelongreach.com.au/event/juke-joint-live-the-birdcage-hotel/
LOCATION:Birdcage Hotel\, Duck Street\, Longreach\, QLD\, 4730\, Australia
ATTACH;FMTTYPE=image/jpeg:https://experiencelongreach.com.au/wp-content/uploads/2023/10/Birdcage.jpg
END:VEVENT
BEGIN:VEVENT
DTSTART;TZID=Australia/Brisbane:20231028T130000
DTEND;TZID=Australia/Brisbane:20231028T140000
DTSTAMP:20260421T025027
CREATED:20231027T010754Z
LAST-MODIFIED:20231027T010754Z
UID:5363-1698498000-1698501600@experiencelongreach.com.au
SUMMARY:Longreach RSL Goose Club Raffle
DESCRIPTION:
URL:https://experiencelongreach.com.au/event/longreach-rsl-goose-club-raffle/
LOCATION:RSL Club\, Duck Street\, Longreach\, QLD\, 4730\, Australia
ATTACH;FMTTYPE=image/jpeg:https://experiencelongreach.com.au/wp-content/uploads/2023/10/RSL-Gooseclub.jpg
END:VEVENT
BEGIN:VEVENT
DTSTART;TZID=Australia/Brisbane:20231028T120000
DTEND;TZID=Australia/Brisbane:20231028T230000
DTSTAMP:20260421T025027
CREATED:20231018T064838Z
LAST-MODIFIED:20231018T065727Z
UID:5301-1698494400-1698534000@experiencelongreach.com.au
SUMMARY:Isisford Ross Cup Races
DESCRIPTION:
URL:https://experiencelongreach.com.au/event/isisford-ross-cup-races/
LOCATION:Isisford Race Course\, Isisford\, Queensland\, Australia
ATTACH;FMTTYPE=image/jpeg:https://experiencelongreach.com.au/wp-content/uploads/2023/10/Isisford-Ross-Cup-Races-202a3.jpg
END:VEVENT
BEGIN:VEVENT
DTSTART;TZID=Australia/Brisbane:20231027T183000
DTEND;TZID=Australia/Brisbane:20231027T223000
DTSTAMP:20260421T025027
CREATED:20231027T002059Z
LAST-MODIFIED:20231027T002503Z
UID:5348-1698431400-1698445800@experiencelongreach.com.au
SUMMARY:Juke Joint live @ the Birdcage Hotel
DESCRIPTION:Live @ the Cage this Friday and Saturday night is Juke Joint. Escape the heat and dance the night away!
URL:https://experiencelongreach.com.au/event/5348/
LOCATION:Birdcage Hotel\, Duck Street\, Longreach\, QLD\, 4730\, Australia
ATTACH;FMTTYPE=image/jpeg:https://experiencelongreach.com.au/wp-content/uploads/2023/10/Birdcage.jpg
END:VEVENT
BEGIN:VEVENT
DTSTART;TZID=Australia/Brisbane:20231022T110000
DTEND;TZID=Australia/Brisbane:20231022T190000
DTSTAMP:20260421T025027
CREATED:20231018T043259Z
LAST-MODIFIED:20231018T060735Z
UID:5285-1697972400-1698001200@experiencelongreach.com.au
SUMMARY:Watersports Come and Try Day
DESCRIPTION:Try your choice of Watersking\, Tubing\, Kneeboarding or Wakeboarding.
URL:https://experiencelongreach.com.au/event/watersports-come-and-try-day/
LOCATION:Thomson River
ATTACH;FMTTYPE=image/jpeg:https://experiencelongreach.com.au/wp-content/uploads/2023/10/Outback-Watersports-Club-Come-and-Try-Day.jpg
ORGANIZER;CN="Outnack Watersports Club":MAILTO:outbackwatersports@gmail.com
END:VEVENT
BEGIN:VEVENT
DTSTART;TZID=Australia/Brisbane:20231001T080000
DTEND;TZID=Australia/Brisbane:20231031T170000
DTSTAMP:20260421T025027
CREATED:20231019T002130Z
LAST-MODIFIED:20231019T002130Z
UID:5326-1696147200-1698771600@experiencelongreach.com.au
SUMMARY:Health and Well Being Month
DESCRIPTION:October = Health and Wellbeing Month \nWe have amazing activities and events planned for the month.  \n1-31 October: Shape run – back by popular demand\n5 October: Wattsy & Friends: 5 Ingredients cooking workshop\n14 October: Mental Health Week – Street Stall\n18 October: Motivational Speaker Luke S. Kennedy\n26 October: Wattsy & Friends: Asian with a twist cooking workshop
URL:https://experiencelongreach.com.au/event/health-and-well-being-month/
LOCATION:QLD
ATTACH;FMTTYPE=image/jpeg:https://experiencelongreach.com.au/wp-content/uploads/2023/10/380710450_701114455390118_2692738885992388075_n.jpg
ORGANIZER;CN="Longreach Regional Council":MAILTO:council@longreach.qld.gov.au
END:VEVENT
END:VCALENDAR