BEGIN:VCALENDAR
VERSION:2.0
PRODID:-//Longreach Region Tourist Information - ECPv6.6.4.1//NONSGML v1.0//EN
CALSCALE:GREGORIAN
METHOD:PUBLISH
X-WR-CALNAME:Longreach Region Tourist Information
X-ORIGINAL-URL:https://experiencelongreach.com.au
X-WR-CALDESC:Events for Longreach Region Tourist Information
REFRESH-INTERVAL;VALUE=DURATION:PT1H
X-Robots-Tag:noindex
X-PUBLISHED-TTL:PT1H
BEGIN:VTIMEZONE
TZID:Australia/Brisbane
BEGIN:STANDARD
TZOFFSETFROM:+1000
TZOFFSETTO:+1000
TZNAME:AEST
DTSTART:20230101T000000
END:STANDARD
END:VTIMEZONE
BEGIN:VEVENT
DTSTART;TZID=Australia/Brisbane:20231027T080000
DTEND;TZID=Australia/Brisbane:20240131T130000
DTSTAMP:20260420T165421
CREATED:20231025T020411Z
LAST-MODIFIED:20231025T020528Z
UID:5333-1698393600-1706706000@experiencelongreach.com.au
SUMMARY:Kirrendirri Heart of the Channel Country Exhibition
DESCRIPTION:Friday  27 October 2023\, 5.30pm Official Launch \nSaturday 28 October 2023\, 10am Curators Tour \nGallery Open 8am to 1pm Daily\, Exhibition runs through to January 2024.
URL:https://experiencelongreach.com.au/event/kirrendirri-heart-of-the-channel-country-exhibition/
LOCATION:Qantas Founders Museum\, Sir Hudson Fysh Drive\, Longreach\, Queensland\, 4730\, Australia
ATTACH;FMTTYPE=image/png:https://experiencelongreach.com.au/wp-content/uploads/2023/10/Friday-27-October-2023-530pm-for-600pm-Official-Launch-Qantas-Founders-Museum-Hudson-Fysh-Drive-Longreach-RSVP-info@qfom.com_.au-By-Wed-25-October2.png
ORGANIZER;CN="Qantas Funders Museum":MAILTO:info@qfom.com.au
END:VEVENT
BEGIN:VEVENT
DTSTART;TZID=Australia/Brisbane:20231201T183000
DTEND;TZID=Australia/Brisbane:20231201T213000
DTSTAMP:20260420T165421
CREATED:20231116T000152Z
LAST-MODIFIED:20231116T000152Z
UID:5414-1701455400-1701466200@experiencelongreach.com.au
SUMMARY:Birdcage Paint and Sip
DESCRIPTION:Come celebrate with the ultimate party experience with a fun painting session.\nPaint Parties are fun group painting sessions that provide the opportunity to gather your friends and wine while you design\, regardless of your artistic ability or skill. Your expert teacher guides you step-by-step. It’s that easy!\nThis is NOT an art workshop- so put on your drinking boots and let’s have some fun!\nAdults ONLY event 18 years and over
URL:https://experiencelongreach.com.au/event/birdcage-paint-and-sip/
LOCATION:Birdcage Hotel\, Duck Street\, Longreach\, QLD\, 4730\, Australia
ATTACH;FMTTYPE=image/jpeg:https://experiencelongreach.com.au/wp-content/uploads/2023/11/Paint-and-sip.jpg
ORGANIZER;CN="Social Collective":MAILTO:emma@iamemmaread.com.au
END:VEVENT
BEGIN:VEVENT
DTSTART;TZID=Australia/Brisbane:20231202T080000
DTEND;TZID=Australia/Brisbane:20231202T230000
DTSTAMP:20260420T165421
CREATED:20231116T003437Z
LAST-MODIFIED:20231116T003655Z
UID:5430-1701504000-1701558000@experiencelongreach.com.au
SUMMARY:Longreach RSL Mother Bucking NO Bull Christmas Party
DESCRIPTION:Mother Bucking NO Bull\nChristmas Party!\nCelebrate the festive season with us Longreach RSL Memorial Services Club on Saturday 2nd December\nMother’s 2nd Choice are going to have the dance floor pumping!\n$1000 CASH Members Draw- MUST BE WON\nOne Lucky Member will be dancing out of here with $1000 cash
URL:https://experiencelongreach.com.au/event/longreach-rsl-mother-bucking-no-bull-christmas-party/
LOCATION:RSL Club\, Duck Street\, Longreach\, QLD\, 4730\, Australia
ATTACH;FMTTYPE=image/jpeg:https://experiencelongreach.com.au/wp-content/uploads/2023/11/RSL-Xmas.jpg
END:VEVENT
BEGIN:VEVENT
DTSTART;TZID=Australia/Brisbane:20231210T080000
DTEND;TZID=Australia/Brisbane:20231210T120000
DTSTAMP:20260420T165421
CREATED:20231116T003914Z
LAST-MODIFIED:20231116T012332Z
UID:5434-1702195200-1702209600@experiencelongreach.com.au
SUMMARY:Ilfracombe Garage Sale Trail
DESCRIPTION:Ifracombe Garage Sale Trail is an opportunity to sell your pre-loved stuff whilst having a clean out before the festive season. Also helping you extend the life of your items as you offer them to others.\nBook your sale!
URL:https://experiencelongreach.com.au/event/ilfracombe-garage-trail-sale/
LOCATION:QLD
ATTACH;FMTTYPE=image/jpeg:https://experiencelongreach.com.au/wp-content/uploads/2023/11/Ilfracombe-Garage-Sale.jpg
END:VEVENT
BEGIN:VEVENT
DTSTART;TZID=Australia/Brisbane:20231210T190000
DTEND;TZID=Australia/Brisbane:20231210T213000
DTSTAMP:20260420T165421
CREATED:20231027T041200Z
LAST-MODIFIED:20231027T041225Z
UID:5395-1702234800-1702243800@experiencelongreach.com.au
SUMMARY:Christmas Carols - A Longreach Churches Together Event for all
DESCRIPTION:
URL:https://experiencelongreach.com.au/event/christmas-carols-a-longreach-churches-together-event-for-all/
LOCATION:Edkins Park\, Galah Street\, Longreach\, Qld\, Australia
ATTACH;FMTTYPE=image/jpeg:https://experiencelongreach.com.au/wp-content/uploads/2023/10/red_candles_1.jpg
END:VEVENT
BEGIN:VEVENT
DTSTART;TZID=Australia/Brisbane:20231211T173000
DTEND;TZID=Australia/Brisbane:20231211T223000
DTSTAMP:20260420T165421
CREATED:20231019T001409Z
LAST-MODIFIED:20231019T001508Z
UID:5322-1702315800-1702333800@experiencelongreach.com.au
SUMMARY:Mexican Fiesta
DESCRIPTION:Join us in Mexico for a vibrant fiesta!  Enjoy the zesty and authentic flavors of Mexican cuisine that will have you dancing to the mariachi tunes. These events will have limited numbers. Further details to follow\, but if you would like to ensure you don’t miss out on securing your spot at each of these events please send us an email at jo@thebranchcafe.com.au
URL:https://experiencelongreach.com.au/event/mexican-fiesta/
LOCATION:The Branch Cafe\, Longreach\, Queensland\, 4730\, Australia
ATTACH;FMTTYPE=image/jpeg:https://experiencelongreach.com.au/wp-content/uploads/2023/10/The-Branch.jpg
END:VEVENT
END:VCALENDAR