BEGIN:VCALENDAR
VERSION:2.0
PRODID:-//Longreach Region Tourist Information - ECPv6.6.4.1//NONSGML v1.0//EN
CALSCALE:GREGORIAN
METHOD:PUBLISH
X-WR-CALNAME:Longreach Region Tourist Information
X-ORIGINAL-URL:https://experiencelongreach.com.au
X-WR-CALDESC:Events for Longreach Region Tourist Information
REFRESH-INTERVAL;VALUE=DURATION:PT1H
X-Robots-Tag:noindex
X-PUBLISHED-TTL:PT1H
BEGIN:VTIMEZONE
TZID:Australia/Brisbane
BEGIN:STANDARD
TZOFFSETFROM:+1000
TZOFFSETTO:+1000
TZNAME:AEST
DTSTART:20240101T000000
END:STANDARD
END:VTIMEZONE
BEGIN:VEVENT
DTSTART;TZID=Australia/Brisbane:20240214T180000
DTEND;TZID=Australia/Brisbane:20240214T200000
DTSTAMP:20260420T143600
CREATED:20240130T055118Z
LAST-MODIFIED:20240130T055202Z
UID:5632-1707933600-1707940800@experiencelongreach.com.au
SUMMARY:Golden West Hotel Valentine's Day Special
DESCRIPTION:
URL:https://experiencelongreach.com.au/event/golden-west-hotel-valentines-day-special/
LOCATION:Golden West Hotel\, Isisford\, Isisford\, Queensland\, Australia
ATTACH;FMTTYPE=image/jpeg:https://experiencelongreach.com.au/wp-content/uploads/2024/01/Golden-West-Hotel-Valentines-Day.jpg
END:VEVENT
BEGIN:VEVENT
DTSTART;VALUE=DATE:20240217
DTEND;VALUE=DATE:20240218
DTSTAMP:20260420T143600
CREATED:20231218T040500Z
LAST-MODIFIED:20231218T040500Z
UID:5477-1708128000-1708214399@experiencelongreach.com.au
SUMMARY:Longreach Rugby League 9's Carnival 2024
DESCRIPTION:
URL:https://experiencelongreach.com.au/event/longreach-rugby-league-9s-carnival-2024/
LOCATION:Longreach Showgrounds\, Kite Street\, Longreach\, Queensland\, 4730\, Australia
ATTACH;FMTTYPE=image/jpeg:https://experiencelongreach.com.au/wp-content/uploads/2023/12/353394272_739031791355398_9164092771574696136_n.jpg
ORGANIZER;CN="Longreach/Ilfracombe Tigers":MAILTO:longreachtigers@gmail.com
END:VEVENT
BEGIN:VEVENT
DTSTART;TZID=Australia/Brisbane:20240224T190000
DTEND;TZID=Australia/Brisbane:20240224T233000
DTSTAMP:20260420T143600
CREATED:20240130T054834Z
LAST-MODIFIED:20240130T054834Z
UID:5630-1708801200-1708817400@experiencelongreach.com.au
SUMMARY:Wellshot Hotel Barbie Themed Meet & Mingle
DESCRIPTION:
URL:https://experiencelongreach.com.au/event/wellshot-hotel-barbie-themed-meet-mingle/
LOCATION:Wellshot Hotel\, Main Street\, Ilfracombe\, Queensland\, 4727\, Australia
ATTACH;FMTTYPE=image/jpeg:https://experiencelongreach.com.au/wp-content/uploads/2024/01/Wellshot-Meet-and-mingle.jpg
END:VEVENT
END:VCALENDAR