BEGIN:VCALENDAR
VERSION:2.0
PRODID:-//Longreach Region Tourist Information - ECPv6.6.4.1//NONSGML v1.0//EN
CALSCALE:GREGORIAN
METHOD:PUBLISH
X-ORIGINAL-URL:https://experiencelongreach.com.au
X-WR-CALDESC:Events for Longreach Region Tourist Information
REFRESH-INTERVAL;VALUE=DURATION:PT1H
X-Robots-Tag:noindex
X-PUBLISHED-TTL:PT1H
BEGIN:VTIMEZONE
TZID:Australia/Brisbane
BEGIN:STANDARD
TZOFFSETFROM:+1000
TZOFFSETTO:+1000
TZNAME:AEST
DTSTART:20240101T000000
END:STANDARD
END:VTIMEZONE
BEGIN:VEVENT
DTSTART;VALUE=DATE:20240316
DTEND;VALUE=DATE:20240923
DTSTAMP:20260420T091556
CREATED:20240304T045026Z
LAST-MODIFIED:20240312T062944Z
UID:5713-1710547200-1727049599@experiencelongreach.com.au
SUMMARY:Yayoi Kusama's exhibition at Qantas Founders Museum
DESCRIPTION:Exciting News! Qantas Founders Museum proudly announces a prominent artwork by the globally celebrated artist Yayoi Kusama\, to be unveiled from 16 March to 22 September 2024 on loan from the National Gallery of Australia. Kusama’s infinity experience THE SPIRITS OF THE PUMPKINS DESCENDED INTO THE HEAVENS will travel to Longreach in Western Queensland. The official unveiling of THE SPIRITS OF THE PUMPKINS DESCENDED INTO THE HEAVENS from the National Gallery will take place on March 15\, 2024\, at the Qantas Founders Museum\, Longreach. Further details regarding public programs and announcements will be released soon. This work of art is on loan from the National Gallery of Australia as part of Art Across Australia. Share #ArtAcrossAustralia
URL:https://experiencelongreach.com.au/event/yayoi-kusamas-the-spirits-of-the-pumpkins-descended-into-the-heavens-exhibition-at-qantas-founders-museum/
LOCATION:Qantas Founders Museum\, Sir Hudson Fysh Drive\, Longreach\, Queensland\, 4730\, Australia
ATTACH;FMTTYPE=image/jpeg:https://experiencelongreach.com.au/wp-content/uploads/2024/03/Yayoi_Kusama__THE_SPIRITS_OF_THE_PUMPKINS_DESCENDED_INTO_THE_HEAVENS__2017__purchased_2018_with_the_assistance_of_Andrew_and_Hiroko_Gwinnett.____YAYOI_KUSAMA.jpg
END:VEVENT
BEGIN:VEVENT
DTSTART;VALUE=DATE:20240406
DTEND;VALUE=DATE:20240407
DTSTAMP:20260420T091556
CREATED:20231219T064451Z
LAST-MODIFIED:20231219T064451Z
UID:5562-1712361600-1712447999@experiencelongreach.com.au
SUMMARY:Matt Scott Shield Under 13's Carnival
DESCRIPTION:
URL:https://experiencelongreach.com.au/event/matt-scott-shield-under-13s-carnival/
LOCATION:Longreach Showgrounds\, Kite Street\, Longreach\, Queensland\, 4730\, Australia
ATTACH;FMTTYPE=image/jpeg:https://experiencelongreach.com.au/wp-content/uploads/2023/12/401848708_7338483039497981_961246996506878327_n-e1702968273643.jpg
END:VEVENT
BEGIN:VEVENT
DTSTART;TZID=Australia/Brisbane:20240408T080000
DTEND;TZID=Australia/Brisbane:20240408T170000
DTSTAMP:20260420T091556
CREATED:20231218T043549Z
LAST-MODIFIED:20231218T043549Z
UID:5495-1712563200-1712595600@experiencelongreach.com.au
SUMMARY:Longreach Race Day
DESCRIPTION:
URL:https://experiencelongreach.com.au/event/longreach-race-day-2/
LOCATION:Longreach Racecourse\, Gull Street\, Longreach\, Queensland\, 4730\, Australia
ATTACH;FMTTYPE=image/jpeg:https://experiencelongreach.com.au/wp-content/uploads/2023/12/380829756_1042729787000868_8059626227564392311_n.jpg
ORGANIZER;CN="Longreach Jockey Club":MAILTO:ljcracesec@gmail.com
END:VEVENT
BEGIN:VEVENT
DTSTART;TZID=Australia/Brisbane:20240413T090000
DTEND;TZID=Australia/Brisbane:20240413T120000
DTSTAMP:20260420T091556
CREATED:20231218T041612Z
LAST-MODIFIED:20231218T041612Z
UID:5487-1712998800-1713009600@experiencelongreach.com.au
SUMMARY:CWA Longreach Markets
DESCRIPTION:
URL:https://experiencelongreach.com.au/event/cwa-longreach-markets/
LOCATION:Qantas Park\, Eagle Street\, Longreach\, Queensland\, 4730\, Australia
ATTACH;FMTTYPE=image/jpeg:https://experiencelongreach.com.au/wp-content/uploads/2023/12/287106876_5881477721879657_6964833073420323996_n.jpg
ORGANIZER;CN="QCWA Longreach":MAILTO:longreachbranch@qcwa.org.au
END:VEVENT
BEGIN:VEVENT
DTSTART;TZID=Australia/Brisbane:20240420T183000
DTEND;TZID=Australia/Brisbane:20240420T233000
DTSTAMP:20260420T091556
CREATED:20240304T043625Z
LAST-MODIFIED:20240304T043625Z
UID:5698-1713637800-1713655800@experiencelongreach.com.au
SUMMARY:Grass Growers Ball
DESCRIPTION:Get ready to kick up your heels\, mingle\, laugh and dance the night away! In the spirit of giving back\, we’ll be fundraising for Outback Futures\, an organization dedicated to supporting health in rural communities. Join us for a night of fun\, laughter\, and celebration as we honour the achievements of our industry and our community. It’s time to raise a glass to everyone’s hard work and dedication! Dust off your dancing shoes and prepare for a night filled with lively music\, great company\, and awesome fun on the dance floor.
URL:https://experiencelongreach.com.au/event/grass-growers-ball/
LOCATION:The Drover’s Place\, Australian Stockman's Hall of Fame\, Longreach\, Qld\, 4730\, Australia
ATTACH;FMTTYPE=image/png:https://experiencelongreach.com.au/wp-content/uploads/2024/03/Grass-growers-ball.png
ORGANIZER;CN="Grow WQ":MAILTO:grow@growq.com.au
END:VEVENT
BEGIN:VEVENT
DTSTART;VALUE=DATE:20240421
DTEND;VALUE=DATE:20240422
DTSTAMP:20260420T091556
CREATED:20231218T053752Z
LAST-MODIFIED:20231218T053752Z
UID:5500-1713657600-1713743999@experiencelongreach.com.au
SUMMARY:Longreach Golf Open
DESCRIPTION:
URL:https://experiencelongreach.com.au/event/longreach-golf-open/
LOCATION:Longrach Golf Club\, Cramsie Muttaburra Road\, Longreach\, Queensland\, 4730\, Australia
ATTACH;FMTTYPE=image/jpeg:https://experiencelongreach.com.au/wp-content/uploads/2022/03/2021_OQM_Longreach_Rushes-LOW-3-web-1.jpg
ORGANIZER;CN="Longreach Golf Club":MAILTO:longreachgolf@outlook.com.au
END:VEVENT
BEGIN:VEVENT
DTSTART;TZID=Australia/Brisbane:20240421T080000
DTEND;TZID=Australia/Brisbane:20240421T130000
DTSTAMP:20260420T091556
CREATED:20231218T042502Z
LAST-MODIFIED:20231218T042502Z
UID:5492-1713686400-1713704400@experiencelongreach.com.au
SUMMARY:Ilfracombe Menshed Markets
DESCRIPTION:
URL:https://experiencelongreach.com.au/event/ilfracombe-menshed-markets/
LOCATION:Ilfracombe\, Main Street\, Ilfracombe\, Queensland\, 4727\, Australia
ATTACH;FMTTYPE=image/jpeg:https://experiencelongreach.com.au/wp-content/uploads/2022/03/Ilfracombe-Mens-Shed-Markets.jpg
END:VEVENT
BEGIN:VEVENT
DTSTART;VALUE=DATE:20240425
DTEND;VALUE=DATE:20240426
DTSTAMP:20260420T091556
CREATED:20231218T055057Z
LAST-MODIFIED:20231218T055057Z
UID:5505-1714003200-1714089599@experiencelongreach.com.au
SUMMARY:Anzac Day Longreach
DESCRIPTION:
URL:https://experiencelongreach.com.au/event/anzac-day-longreach/
LOCATION:Edkins Park\, Galah Street\, Longreach\, Qld\, Australia
ATTACH;FMTTYPE=image/jpeg:https://experiencelongreach.com.au/wp-content/uploads/2023/12/177877879_3974883419271855_3645721168602436697_n.jpg
ORGANIZER;CN="Longreach Regional Council":MAILTO:council@longreach.qld.gov.au
END:VEVENT
BEGIN:VEVENT
DTSTART;TZID=Australia/Brisbane:20240427T113000
DTEND;TZID=Australia/Brisbane:20240427T190000
DTSTAMP:20260420T091556
CREATED:20231218T055337Z
LAST-MODIFIED:20231218T055337Z
UID:5513-1714217400-1714244400@experiencelongreach.com.au
SUMMARY:Diggers Cup Race Day
DESCRIPTION:
URL:https://experiencelongreach.com.au/event/diggers-cup-race-day/
LOCATION:Longreach Racecourse\, Gull Street\, Longreach\, Queensland\, 4730\, Australia
ATTACH;FMTTYPE=image/jpeg:https://experiencelongreach.com.au/wp-content/uploads/2023/12/380829756_1042729787000868_8059626227564392311_n.jpg
ORGANIZER;CN="Longreach Jockey Club":MAILTO:ljcracesec@gmail.com
END:VEVENT
END:VCALENDAR