BEGIN:VCALENDAR
VERSION:2.0
PRODID:-//Longreach Region Tourist Information - ECPv6.6.4.1//NONSGML v1.0//EN
CALSCALE:GREGORIAN
METHOD:PUBLISH
X-ORIGINAL-URL:https://experiencelongreach.com.au
X-WR-CALDESC:Events for Longreach Region Tourist Information
REFRESH-INTERVAL;VALUE=DURATION:PT1H
X-Robots-Tag:noindex
X-PUBLISHED-TTL:PT1H
BEGIN:VTIMEZONE
TZID:Australia/Brisbane
BEGIN:STANDARD
TZOFFSETFROM:+1000
TZOFFSETTO:+1000
TZNAME:AEST
DTSTART:20240101T000000
END:STANDARD
END:VTIMEZONE
BEGIN:VEVENT
DTSTART;VALUE=DATE:20240316
DTEND;VALUE=DATE:20240923
DTSTAMP:20260420T054453
CREATED:20240304T045026Z
LAST-MODIFIED:20240312T062944Z
UID:5713-1710547200-1727049599@experiencelongreach.com.au
SUMMARY:Yayoi Kusama's exhibition at Qantas Founders Museum
DESCRIPTION:Exciting News! Qantas Founders Museum proudly announces a prominent artwork by the globally celebrated artist Yayoi Kusama\, to be unveiled from 16 March to 22 September 2024 on loan from the National Gallery of Australia. Kusama’s infinity experience THE SPIRITS OF THE PUMPKINS DESCENDED INTO THE HEAVENS will travel to Longreach in Western Queensland. The official unveiling of THE SPIRITS OF THE PUMPKINS DESCENDED INTO THE HEAVENS from the National Gallery will take place on March 15\, 2024\, at the Qantas Founders Museum\, Longreach. Further details regarding public programs and announcements will be released soon. This work of art is on loan from the National Gallery of Australia as part of Art Across Australia. Share #ArtAcrossAustralia
URL:https://experiencelongreach.com.au/event/yayoi-kusamas-the-spirits-of-the-pumpkins-descended-into-the-heavens-exhibition-at-qantas-founders-museum/
LOCATION:Qantas Founders Museum\, Sir Hudson Fysh Drive\, Longreach\, Queensland\, 4730\, Australia
ATTACH;FMTTYPE=image/jpeg:https://experiencelongreach.com.au/wp-content/uploads/2024/03/Yayoi_Kusama__THE_SPIRITS_OF_THE_PUMPKINS_DESCENDED_INTO_THE_HEAVENS__2017__purchased_2018_with_the_assistance_of_Andrew_and_Hiroko_Gwinnett.____YAYOI_KUSAMA.jpg
END:VEVENT
BEGIN:VEVENT
DTSTART;TZID=Australia/Brisbane:20240531T080000
DTEND;TZID=Australia/Brisbane:20240602T170000
DTSTAMP:20260420T054453
CREATED:20240304T044121Z
LAST-MODIFIED:20240521T225046Z
UID:5703-1717142400-1717347600@experiencelongreach.com.au
SUMMARY:Australian Stockman's Hall of Fame 2024 Campdraft
DESCRIPTION:An action packed Campdraft held Friday 31 May to Sunday 2nd June 2024 at the iconic Australian Stockman’s Hall of Fame in Longreach\, Queensland.
URL:https://experiencelongreach.com.au/event/australian-stockmans-hall-of-fame-2024-campdraft/
LOCATION:Australian Stockman’s Hall of Fame\, Landsborough Highway\, Longreach\, Queensland\, 4730\, Australia
ATTACH;FMTTYPE=image/jpeg:https://experiencelongreach.com.au/wp-content/uploads/2024/03/ASHOF_Campdraft_2.jpg
END:VEVENT
BEGIN:VEVENT
DTSTART;TZID=Australia/Brisbane:20240608T090000
DTEND;TZID=Australia/Brisbane:20240608T130000
DTSTAMP:20260420T054453
CREATED:20231218T063951Z
LAST-MODIFIED:20231218T063951Z
UID:5534-1717837200-1717851600@experiencelongreach.com.au
SUMMARY:Longreach CWA Markets
DESCRIPTION:
URL:https://experiencelongreach.com.au/event/longreach-cwa-markets-2/
LOCATION:Qantas Park\, Eagle Street\, Longreach\, Queensland\, 4730\, Australia
ATTACH;FMTTYPE=image/jpeg:https://experiencelongreach.com.au/wp-content/uploads/2023/12/287106876_5881477721879657_6964833073420323996_n-1-e1702964919861.jpg
ORGANIZER;CN="QCWA Longreach":MAILTO:longreachbranch@qcwa.org.au
END:VEVENT
BEGIN:VEVENT
DTSTART;TZID=Australia/Brisbane:20240608T090000
DTEND;TZID=Australia/Brisbane:20240608T130000
DTSTAMP:20260420T054453
CREATED:20240208T005054Z
LAST-MODIFIED:20240208T005142Z
UID:5646-1717837200-1717851600@experiencelongreach.com.au
SUMMARY:CWA Markets
DESCRIPTION:
URL:https://experiencelongreach.com.au/event/cwa-markets/
LOCATION:Qantas Park\, Eagle Street\, Longreach\, Queensland\, 4730\, Australia
ATTACH;FMTTYPE=image/jpeg:https://experiencelongreach.com.au/wp-content/uploads/2023/12/287106876_5881477721879657_6964833073420323996_n.jpg
ORGANIZER;CN="QCWA Longreach":MAILTO:longreachbranch@qcwa.org.au
END:VEVENT
BEGIN:VEVENT
DTSTART;TZID=Australia/Brisbane:20240615T113000
DTEND;TZID=Australia/Brisbane:20240615T190000
DTSTAMP:20260420T054453
CREATED:20231218T065012Z
LAST-MODIFIED:20240208T005537Z
UID:5539-1718451000-1718478000@experiencelongreach.com.au
SUMMARY:Longreach Race Day
DESCRIPTION:
URL:https://experiencelongreach.com.au/event/longreach-race-day-4/
LOCATION:Longreach Racecourse\, Gull Street\, Longreach\, Queensland\, 4730\, Australia
ATTACH;FMTTYPE=image/jpeg:https://experiencelongreach.com.au/wp-content/uploads/2023/12/380829756_1042729787000868_8059626227564392311_n.jpg
ORGANIZER;CN="Longreach Jockey Club":MAILTO:ljcracesec@gmail.com
END:VEVENT
BEGIN:VEVENT
DTSTART;TZID=Australia/Brisbane:20240616T080000
DTEND;TZID=Australia/Brisbane:20240616T130000
DTSTAMP:20260420T054453
CREATED:20231218T064329Z
LAST-MODIFIED:20231218T064329Z
UID:5536-1718524800-1718542800@experiencelongreach.com.au
SUMMARY:Ilfracombe Menshed Markets
DESCRIPTION:
URL:https://experiencelongreach.com.au/event/ilfracombe-menshed-markets-3/
LOCATION:Ilfracombe\, Main Street\, Ilfracombe\, Queensland\, 4727\, Australia
ATTACH;FMTTYPE=image/jpeg:https://experiencelongreach.com.au/wp-content/uploads/2022/03/Arts-2.jpg
END:VEVENT
BEGIN:VEVENT
DTSTART;VALUE=DATE:20240629
DTEND;VALUE=DATE:20240630
DTSTAMP:20260420T054453
CREATED:20240116T065149Z
LAST-MODIFIED:20240116T065304Z
UID:5617-1719619200-1719705599@experiencelongreach.com.au
SUMMARY:Yaraka Horse & Bike Gymkhana
DESCRIPTION:
URL:https://experiencelongreach.com.au/event/yaraka-horse-bike-gymkhana/
LOCATION:Yaraka\, Kiama Park Sports Grounds\, Yaraka\, Qld\, Australia
ATTACH;FMTTYPE=image/jpeg:https://experiencelongreach.com.au/wp-content/uploads/2024/01/Yaraka-Horse-Bike-Gymkhana.jpg
END:VEVENT
END:VCALENDAR