BEGIN:VCALENDAR
VERSION:2.0
PRODID:-//Longreach Region Tourist Information - ECPv6.6.4.1//NONSGML v1.0//EN
CALSCALE:GREGORIAN
METHOD:PUBLISH
X-ORIGINAL-URL:https://experiencelongreach.com.au
X-WR-CALDESC:Events for Longreach Region Tourist Information
REFRESH-INTERVAL;VALUE=DURATION:PT1H
X-Robots-Tag:noindex
X-PUBLISHED-TTL:PT1H
BEGIN:VTIMEZONE
TZID:Australia/Brisbane
BEGIN:STANDARD
TZOFFSETFROM:+1000
TZOFFSETTO:+1000
TZNAME:AEST
DTSTART:20240101T000000
END:STANDARD
END:VTIMEZONE
BEGIN:VEVENT
DTSTART;VALUE=DATE:20240316
DTEND;VALUE=DATE:20240923
DTSTAMP:20260420T040520
CREATED:20240304T045026Z
LAST-MODIFIED:20240312T062944Z
UID:5713-1710547200-1727049599@experiencelongreach.com.au
SUMMARY:Yayoi Kusama's exhibition at Qantas Founders Museum
DESCRIPTION:Exciting News! Qantas Founders Museum proudly announces a prominent artwork by the globally celebrated artist Yayoi Kusama\, to be unveiled from 16 March to 22 September 2024 on loan from the National Gallery of Australia. Kusama’s infinity experience THE SPIRITS OF THE PUMPKINS DESCENDED INTO THE HEAVENS will travel to Longreach in Western Queensland. The official unveiling of THE SPIRITS OF THE PUMPKINS DESCENDED INTO THE HEAVENS from the National Gallery will take place on March 15\, 2024\, at the Qantas Founders Museum\, Longreach. Further details regarding public programs and announcements will be released soon. This work of art is on loan from the National Gallery of Australia as part of Art Across Australia. Share #ArtAcrossAustralia
URL:https://experiencelongreach.com.au/event/yayoi-kusamas-the-spirits-of-the-pumpkins-descended-into-the-heavens-exhibition-at-qantas-founders-museum/
LOCATION:Qantas Founders Museum\, Sir Hudson Fysh Drive\, Longreach\, Queensland\, 4730\, Australia
ATTACH;FMTTYPE=image/jpeg:https://experiencelongreach.com.au/wp-content/uploads/2024/03/Yayoi_Kusama__THE_SPIRITS_OF_THE_PUMPKINS_DESCENDED_INTO_THE_HEAVENS__2017__purchased_2018_with_the_assistance_of_Andrew_and_Hiroko_Gwinnett.____YAYOI_KUSAMA.jpg
END:VEVENT
BEGIN:VEVENT
DTSTART;VALUE=DATE:20240830
DTEND;VALUE=DATE:20240902
DTSTAMP:20260420T040520
CREATED:20231219T063718Z
LAST-MODIFIED:20231219T063827Z
UID:5557-1724976000-1725235199@experiencelongreach.com.au
SUMMARY:Yellowbelly Fishing Competition
DESCRIPTION:
URL:https://experiencelongreach.com.au/event/yellowbelly-fishing-competition/
LOCATION:Thomson River\, Longreach\, River Farms Road\, Longreach\, Queensland\, 4730\, Australia
ATTACH;FMTTYPE=image/jpeg:https://experiencelongreach.com.au/wp-content/uploads/2023/12/372918047_602290852104694_6337191531029531714_n-e1702967825993.jpg
ORGANIZER;CN="Yellowbelly Fishing Comp Committee":MAILTO:longreachfishcomp@gmail.com
END:VEVENT
BEGIN:VEVENT
DTSTART;TZID=Australia/Brisbane:20240904T080000
DTEND;TZID=Australia/Brisbane:20240906T170000
DTSTAMP:20260420T040520
CREATED:20231026T232731Z
LAST-MODIFIED:20240208T013826Z
UID:5342-1725436800-1725642000@experiencelongreach.com.au
SUMMARY:Somerset Storyfest OutWest
DESCRIPTION:
URL:https://experiencelongreach.com.au/event/somerset-storyfest-outwest/
LOCATION:Longreach Showgrounds\, Kite Street\, Longreach\, Queensland\, 4730\, Australia
ATTACH;FMTTYPE=image/jpeg:https://experiencelongreach.com.au/wp-content/uploads/2023/10/Storyfest-e1707356194719.jpg
ORGANIZER;CN="Somerset Storyfest":MAILTO:events@storyfest.com.au
END:VEVENT
BEGIN:VEVENT
DTSTART;VALUE=DATE:20240914
DTEND;VALUE=DATE:20240916
DTSTAMP:20260420T040520
CREATED:20240116T064543Z
LAST-MODIFIED:20240116T064543Z
UID:5613-1726272000-1726444799@experiencelongreach.com.au
SUMMARY:Yaraka End of the Line Draft
DESCRIPTION:
URL:https://experiencelongreach.com.au/event/yaraka-end-of-the-line-draft/
LOCATION:Yaraka\, Kiama Park Sports Grounds\, Yaraka\, Qld\, Australia
ATTACH;FMTTYPE=image/jpeg:https://experiencelongreach.com.au/wp-content/uploads/2024/01/Yaraka-End-of-the-line-draft-scaled.jpg
END:VEVENT
BEGIN:VEVENT
DTSTART;TZID=Australia/Brisbane:20240914T090000
DTEND;TZID=Australia/Brisbane:20240914T130000
DTSTAMP:20260420T040520
CREATED:20240208T013344Z
LAST-MODIFIED:20240208T013422Z
UID:5659-1726304400-1726318800@experiencelongreach.com.au
SUMMARY:CWA Markets
DESCRIPTION:
URL:https://experiencelongreach.com.au/event/cwa-markets-2/
LOCATION:Qantas Park\, Eagle Street\, Longreach\, Queensland\, 4730\, Australia
ATTACH;FMTTYPE=image/jpeg:https://experiencelongreach.com.au/wp-content/uploads/2023/12/287106876_5881477721879657_6964833073420323996_n-1-e1702964919861.jpg
ORGANIZER;CN="QCWA Longreach":MAILTO:longreachbranch@qcwa.org.au
END:VEVENT
BEGIN:VEVENT
DTSTART;VALUE=DATE:20240915
DTEND;VALUE=DATE:20240916
DTSTAMP:20260420T040520
CREATED:20231219T065000Z
LAST-MODIFIED:20231219T065000Z
UID:5566-1726358400-1726444799@experiencelongreach.com.au
SUMMARY:Ilfracombe Golf Open
DESCRIPTION:
URL:https://experiencelongreach.com.au/event/ilfracombe-golf-open/
LOCATION:Ilfracombe Golf Course\, 8941 Ilfracombe Isisford Road\, Ilfracombe\, Queensland\, 4727\, Australia
ATTACH;FMTTYPE=image/jpeg:https://experiencelongreach.com.au/wp-content/uploads/2023/12/383772912_782075043718979_6048114386238620134_n-e1702968559949.jpg
ORGANIZER;CN="Ilfracombe Golf Club - Australia":MAILTO:ameliaw@tpg.com.au
END:VEVENT
BEGIN:VEVENT
DTSTART;TZID=Australia/Brisbane:20240928T113000
DTEND;TZID=Australia/Brisbane:20240928T190000
DTSTAMP:20260420T040520
CREATED:20240208T014014Z
LAST-MODIFIED:20240208T014014Z
UID:5662-1727523000-1727550000@experiencelongreach.com.au
SUMMARY:Country Cups Challenge Race Day
DESCRIPTION:
URL:https://experiencelongreach.com.au/event/country-cups-challenge-race-day/
LOCATION:Longreach Racecourse\, Gull Street\, Longreach\, Queensland\, 4730\, Australia
ATTACH;FMTTYPE=image/jpeg:https://experiencelongreach.com.au/wp-content/uploads/2023/12/380829756_1042729787000868_8059626227564392311_n.jpg
ORGANIZER;CN="Longreach Jockey Club":MAILTO:ljcracesec@gmail.com
END:VEVENT
END:VCALENDAR