BEGIN:VCALENDAR
VERSION:2.0
PRODID:-//Longreach Region Tourist Information - ECPv6.6.4.1//NONSGML v1.0//EN
CALSCALE:GREGORIAN
METHOD:PUBLISH
X-WR-CALNAME:Longreach Region Tourist Information
X-ORIGINAL-URL:https://experiencelongreach.com.au
X-WR-CALDESC:Events for Longreach Region Tourist Information
REFRESH-INTERVAL;VALUE=DURATION:PT1H
X-Robots-Tag:noindex
X-PUBLISHED-TTL:PT1H
BEGIN:VTIMEZONE
TZID:Australia/Brisbane
BEGIN:STANDARD
TZOFFSETFROM:+1000
TZOFFSETTO:+1000
TZNAME:AEST
DTSTART:20240101T000000
END:STANDARD
END:VTIMEZONE
BEGIN:VEVENT
DTSTART;TZID=Australia/Brisbane:20241109T113000
DTEND;TZID=Australia/Brisbane:20241109T190000
DTSTAMP:20260420T072732
CREATED:20240208T023048Z
LAST-MODIFIED:20240208T023048Z
UID:5671-1731151800-1731178800@experiencelongreach.com.au
SUMMARY:Longreach Races
DESCRIPTION:
URL:https://experiencelongreach.com.au/event/longreach-races-3/
LOCATION:Longreach Racecourse\, Gull Street\, Longreach\, Queensland\, 4730\, Australia
ATTACH;FMTTYPE=image/jpeg:https://experiencelongreach.com.au/wp-content/uploads/2024/02/Longreach-Jockey-Club-2-e1707359385848.jpg
ORGANIZER;CN="Longreach Jockey Club":MAILTO:ljcracesec@gmail.com
END:VEVENT
BEGIN:VEVENT
DTSTART;TZID=Australia/Brisbane:20241127T173000
DTEND;TZID=Australia/Brisbane:20241127T193000
DTSTAMP:20260420T072732
CREATED:20240208T024323Z
LAST-MODIFIED:20240208T024323Z
UID:5673-1732728600-1732735800@experiencelongreach.com.au
SUMMARY:Longreach Fire Brigade Trials
DESCRIPTION:
URL:https://experiencelongreach.com.au/event/longreach-fire-brigade-trials/
LOCATION:Eagle Street\, Longreach\, Eagle Street\, Longreach\, Queensland\, 4730\, Australia
ATTACH;FMTTYPE=image/jpeg:https://experiencelongreach.com.au/wp-content/uploads/2024/02/Longreach-Fire-Trails-e1707360166948.jpg
END:VEVENT
END:VCALENDAR